BEGIN:VCALENDAR
VERSION:2.0
METHOD:PUBLISH
PRODID:-//hacksw/handcal//NONSGML v1.0//EN
BEGIN:VEVENT
DTSTAMP:20260421T100025Z
DTSTART;TZID='':20130522T183000
DTEND;TZID='':20130522T213000
UID:20130522T183000-20130522T213000-4@abpmp.org.ru
SUMMARY:День рождения ABPMP Russian Chapter
DESCRIPTION:Ассоциация BPM-профессионалов (ABPMP Russian Chapter) приглашает на свое первое собрание!\n\nВ повестке - презентация инициативной группой концепции и планов деятельности Ассоциации и их обсуждение. Вы сможете предложить свои идеи и заявить о своем желании участвовать в комитетах и рабочих группах\, которые начнут формироваться по результатам собрания.\n\nЕсли вы потенциально заинтересованы в участии в деятельности Ассоциации BPM-профессионалов\, не упустите возможности встать у ее истоков.\nРегламент\n\n	18:30-19:00 - Регистрация\, неформальное общение\n	19:00-20:30 - Концепция и планы деятельности Ассоциации\n	20:30-21:00 - Общая дискуссия\n	21:00-21:30 - Неформальное общение
X-ALT-DESC;FMTTYPE=text/html:<p>Ассоциация BPM-профессионалов (ABPMP Russian Chapter) приглашает на свое первое собрание!</p>\n<p>В повестке &#8212\; презентация инициативной группой концепции и планов деятельности Ассоциации и их обсуждение. Вы сможете предложить свои идеи и заявить о своем желании участвовать в комитетах и рабочих группах\, которые начнут формироваться по результатам собрания.</p>\n<p>Если вы потенциально заинтересованы в участии в деятельности Ассоциации BPM-профессионалов\, не упустите возможности встать у ее истоков.</p>\n<h2>Регламент</h2>\n<ul>\n<li>18:30-19:00 &#8212\; Регистрация\, неформальное общение</li>\n<li>19:00-20:30 &#8212\; Концепция и планы деятельности Ассоциации</li>\n<li>20:30-21:00 &#8212\; Общая дискуссия</li>\n<li>21:00-21:30 &#8212\; Неформальное общение</li>\n</ul>\n
URL:https://abpmp.org.ru/events/4/kickstart/
ATTACH:https://abpmp.org.ru/events/4/kickstart/
LOCATION:РАНХиГС\, пр. Вернадского\, 82\, Москва
END:VEVENT
END:VCALENDAR
