BEGIN:VCALENDAR
VERSION:2.0
METHOD:PUBLISH
PRODID:-//hacksw/handcal//NONSGML v1.0//EN
BEGIN:VEVENT
DTSTAMP:20260420T134443Z
DTSTART;TZID='':20241107T180000
DTEND;TZID='':20241107T210000
UID:20241107T180000-20241107T210000-305@abpmp.org.ru
SUMMARY:Создание бизнес-приложения за 5 шагов на Low-Code BPM платформе Citeck
DESCRIPTION:На сегодняшний день Low-code разработка становится повсеместным трендом. Особенно чувствительными к такому подходу являются системы класса BPMS\, где скорость разработки приравнивается к скорости бизнеса.\n\nПриглашаем всех желающих познакомиться с платформой Citeck.\nПрограмма\n\n 	Коротко о платформе — почему выбрали Low-Code главным вектором развития\, как пришли к микросервисной событийной архитектуре и почему отказались от кейс-менеджмента\n 	Варианты создания бизнес-приложений на платформе Citeck — No-Code\, Low-Code\, Code\n 	Демонстрация — Создание бизнес-приложения за 5 шагов\n 	Управление событиями — преимущества подхода на примере Service Desk\n 	 Дополнительные возможности BPM Citeck для бизнеса и администраторов БП — тепловая карта\, миграция версий и токенов\, Process Mining и другое\n\nРегламент\n\n 	18:00 Регистрация и неформальное общение\n 	19:00 Демонстрация\n 	20:00 Вопросы и ответы\n 	20:10 Общая дискуссия\n 	21:00 Закрытие мероприятия\n\nПринять участие в мастер-классе можно очно или онлайн.\n\n 	ссылка на онлайн-трансляцию &gt\;&gt\;\n 	для очного участия необходима регистрация
X-ALT-DESC;FMTTYPE=text/html:<p>На сегодняшний день Low-code разработка становится повсеместным трендом. Особенно &#171\;чувствительными&#187\; к такому подходу являются системы класса BPMS\, где скорость разработки приравнивается к скорости бизнеса.</p>\n<p>Приглашаем всех желающих познакомиться с платформой Citeck.</p>\n<h2><strong>Программа</strong></h2>\n<ol>\n<li>Коротко о платформе — почему выбрали Low-Code главным вектором развития\, как пришли к микросервисной событийной архитектуре и почему отказались от кейс-менеджмента</li>\n<li>Варианты создания бизнес-приложений на платформе Citeck — No-Code\, Low-Code\, Code</li>\n<li>Демонстрация — Создание бизнес-приложения за 5 шагов</li>\n<li>Управление событиями — преимущества подхода на примере Service Desk</li>\n<li> Дополнительные возможности BPM Citeck для бизнеса и администраторов БП — тепловая карта\, миграция версий и токенов\, Process Mining и другое</li>\n</ol>\n<h2>Регламент</h2>\n<ul>\n<li>18:00 Регистрация и неформальное общение</li>\n<li>19:00 Демонстрация</li>\n<li>20:00 Вопросы и ответы</li>\n<li>20:10 Общая дискуссия</li>\n<li>21:00 Закрытие мероприятия</li>\n</ul>\n<p>Принять участие в мастер-классе можно очно или онлайн.</p>\n<ul>\n<li><a href=https://us02web.zoom.us/j/81141415877?pwd=T7GlvGFA9QG79bj0ELQ1wbE8MbyiMX.1 target=_blank rel=noopener>ссылка на онлайн-трансляцию &gt\;&gt\;</a></li>\n<li>для очного участия необходима регистрация</li>\n</ul>\n
URL:https://abpmp.org.ru/events/citeck/
ATTACH:https://abpmp.org.ru/events/citeck/
LOCATION:НИТУ МИСИС и Магистерская школа Информационных бизнес систем (МШ ИБС)\, Малый Толмачёвский переулок\, 8/11с3\, Москва
END:VEVENT
END:VCALENDAR
