BEGIN:VCALENDAR
VERSION:2.0
METHOD:PUBLISH
PRODID:-//hacksw/handcal//NONSGML v1.0//EN
BEGIN:VEVENT
DTSTAMP:20260421T094615Z
DTSTART;TZID='':20240523T180000
DTEND;TZID='':20240523T210000
UID:20240523T180000-20240523T210000-285@abpmp.org.ru
SUMMARY:Моделе-ориентированная разработка ПО с использованием платформы Онто
DESCRIPTION:В современном мире системы управления знаниями становятся ключевыми инструментами в арсенале любой организации. Однако со временем система управления знаниями может накапливать не только ценные знания\, но и информационный мусор\, который усложняет поиск актуальной информации и принятие решений. Так\, всем знакомы проблемы\, связанные с неактуальными текстами и схемами в архитектурных репозиториях\, которые не только замедляют процессы\, но и могут приводить к ошибочным решениям.\nЧто вы узнаете на мастер-классе\nНа мастер-классе создатель платформы Онто расскажет и покажет\, как интеграция моделе-ориентированной разработки ПО (Model-Based Systems Engineering\, MBSE)\, онтологий и общего цифрового пространства позволяет:\n\n 	освободить когнитивные возможности аналитиков\n 	усилить восприятие и сократить объемы ненужной информации\n 	синхронизировать словарь команд\n 	ускорить процесс онбординга и переключения контекстов между проектами\n 	обеспечить системному аналитику доступ к реальным зависимостям и трассировке между компонентами решений\n 	повысить точность проектирования решений на стадии первичного скетча\n\nПриходите на мастер-класс\, чтобы узнать\, как современные подходы к управлению знаниями могут трансформировать вашу профессиональную деятельность.\nРегламент\n\n 	18:00 Регистрация и неформальное общение\n 	19:00 Демонстрация\n 	20:00 Вопросы и ответы\n 	20:10 Общая дискуссия\n 	21:00 Закрытие мероприятия\n\nПринять участие в мастер-классе можно очно или онлайн.\n\n 	ссылка на онлайн-трансляцию &gt\;&gt\;\n 	для очного участия необходима регистрация
X-ALT-DESC;FMTTYPE=text/html:<p>В современном мире системы управления знаниями становятся ключевыми инструментами в арсенале любой организации. Однако со временем система управления знаниями может накапливать не только ценные знания\, но и &#171\;информационный мусор&#187\;\, который усложняет поиск актуальной информации и принятие решений. Так\, всем знакомы проблемы\, связанные с неактуальными текстами и схемами в архитектурных репозиториях\, которые не только замедляют процессы\, но и могут приводить к ошибочным решениям.</p>\n<h2>Что вы узнаете на мастер-классе</h2>\n<p>На мастер-классе создатель платформы Онто расскажет и покажет\, как интеграция моделе-ориентированной разработки ПО (Model-Based Systems Engineering\, MBSE)\, онтологий и общего цифрового пространства позволяет:</p>\n<ul>\n<li>освободить когнитивные возможности аналитиков</li>\n<li>усилить восприятие и сократить объемы ненужной информации</li>\n<li>синхронизировать словарь команд</li>\n<li>ускорить процесс онбординга и переключения контекстов между проектами</li>\n<li>обеспечить системному аналитику доступ к реальным зависимостям и трассировке между компонентами решений</li>\n<li>повысить точность проектирования решений на стадии первичного скетча</li>\n</ul>\n<p>Приходите на мастер-класс\, чтобы узнать\, как современные подходы к управлению знаниями могут трансформировать вашу профессиональную деятельность.</p>\n<h2>Регламент</h2>\n<ul>\n<li>18:00 Регистрация и неформальное общение</li>\n<li>19:00 Демонстрация</li>\n<li>20:00 Вопросы и ответы</li>\n<li>20:10 Общая дискуссия</li>\n<li>21:00 Закрытие мероприятия</li>\n</ul>\n<p>Принять участие в мастер-классе можно очно или онлайн.</p>\n<ul>\n<li><a href=https://us02web.zoom.us/j/84994758964?pwd=cDdFOTF6dURvNGhDUENERzhXalRKdz09>ссылка на онлайн-трансляцию &gt\;&gt\;</a></li>\n<li>для очного участия необходима регистрация</li>\n</ul>\n
URL:https://abpmp.org.ru/events/onto/
ATTACH:https://abpmp.org.ru/events/onto/
END:VEVENT
END:VCALENDAR
