BEGIN:VCALENDAR
VERSION:2.0
METHOD:PUBLISH
PRODID:-//hacksw/handcal//NONSGML v1.0//EN
BEGIN:VEVENT
DTSTAMP:20260420T100829Z
DTSTART;TZID='':20220419T173000
DTEND;TZID='':20220419T210000
UID:20220419T173000-20220419T210000-218@abpmp.org.ru
SUMMARY:Конкурс BPM-проект года'2022 (день 5)
DESCRIPTION:Программа:\n\n 	17:30-18:00 Регистрация\, неформальное общение\n 	18:00-18:45 Управление обратной связью с потребителями (Автохолдинг Максимум)\n 	19:00-19:45 Единая сервисная экосистема работы с обращениями (АНО «Служба обеспечения деятельности финансового уполномоченного»)\n 	20:00-20:45 Трансформация технической поддержки по продукту (IEK GROUP)\n 	20:45-21:00 Закрытие мероприятия\n\nМероприятие проводится в комбинированном формате формате.\n\n 	Ссылка для онлайнового участия &gt\;&gt\; ВНИМАНИЕ! При входе в конференцию необходимо указать имя и фамилию\, анонимные гости допускаться не будут.\n 	Для очного участия зарегистрируйтесь через анкету внизу.
X-ALT-DESC;FMTTYPE=text/html:<p>Программа:</p>\n<ul>\n<li>17:30-18:00 Регистрация\, неформальное общение</li>\n<li>18:00-18:45 <a href=https://bpmaward.ru/2022/02/06/automaximum/>Управление обратной связью с потребителями</a> (Автохолдинг Максимум)</li>\n<li>19:00-19:45 <a href=https://bpmaward.ru/2022/02/28/finan/>Единая сервисная экосистема работы с обращениями</a> (АНО «Служба обеспечения деятельности финансового уполномоченного»)</li>\n<li>20:00-20:45 <a href=https://bpmaward.ru/2022/02/15/iekgroup/>Трансформация технической поддержки по продукту</a> (IEK GROUP)</li>\n<li>20:45-21:00 Закрытие мероприятия</li>\n</ul>\n<p>Мероприятие проводится в комбинированном формате формате.</p>\n<ul>\n<li><a href=https://us02web.zoom.us/j/81948987865?pwd=NE5MUUxKREZVZ2xXUUFEK2VWejVGdz09>Ссылка для онлайнового участия &gt\;&gt\;</a> ВНИМАНИЕ! При входе в конференцию необходимо указать имя и фамилию\, анонимные гости допускаться не будут.</li>\n<li><span style=font-size: 1rem\;>Для очного участия зарегистрируйтесь через анкету внизу.</span></li>\n</ul>\n
URL:https://abpmp.org.ru/events/bpmaward_2022_5/
ATTACH:https://abpmp.org.ru/events/bpmaward_2022_5/
LOCATION:Аналитический центр при Правительстве Российской Федерации\, проспект Академика Сахарова\, 12\, Москва
END:VEVENT
END:VCALENDAR
