BEGIN:VCALENDAR
VERSION:2.0
METHOD:PUBLISH
PRODID:-//hacksw/handcal//NONSGML v1.0//EN
BEGIN:VEVENT
DTSTAMP:20260422T095103Z
DTSTART;TZID='':20210318T180000
DTEND;TZID='':20210318T210000
UID:20210318T180000-20210318T210000-181@abpmp.org.ru
SUMMARY:Конкурс BPM-проект года'2020. Презентация проектов (день 1)
DESCRIPTION:Программа:\n\n 	18:00-18:30 Регистрация\, неформальное общение\n 	18:30-19:10 Разработка\, регламентация и автоматизация системы работы с процессами организаций Комплекса экономической политики и имущественно-земельных отношений Правительства Москвы (Государственное бюджетное учреждение города Москвы «Аналитический центр»)\n 	19:20-20:00 Автоматизация процессов управления сервисом с помощью BPM-платформы (АТОЛ)\n 	20:10-20:50 Гетерогенная BPM-система Mafin (ООО «АбсолютТех»)\n 	20:50-21:00 Закрытие мероприятия\n\nМероприятие проводится в онлайн-формате (Zoom).\n\n 	Ссылка для подключения &gt\;&gt\;\n\nВНИМАНИЕ! Для участия в мероприятии необходимо указать при регистрации фамилию и имя участника\, анонимные гости допускаться не будут.
X-ALT-DESC;FMTTYPE=text/html:<p>Программа:</p>\n<ul>\n<li>18:00-18:30 Регистрация\, неформальное общение</li>\n<li>18:30-19:10 <a href=https://bpmaward.ru/2021/02/26/developmos/ data-slimstat=5>Разработка\, регламентация и автоматизация системы работы с процессами организаций Комплекса экономической политики и имущественно-земельных отношений Правительства Москвы</a> (Государственное бюджетное учреждение города Москвы «Аналитический центр»)</li>\n<li>19:20-20:00 <a href=https://bpmaward.ru/2021/02/24/atol/ data-slimstat=5>Автоматизация процессов управления сервисом с помощью BPM-платформы</a> (АТОЛ)</li>\n<li>20:10-20:50 <a href=https://bpmaward.ru/2021/02/26/mafin-2/ data-slimstat=5>Гетерогенная BPM-система Mafin</a> (ООО «АбсолютТех»)</li>\n<li>20:50-21:00 Закрытие мероприятия</li>\n</ul>\n<p>Мероприятие проводится в онлайн-формате (Zoom).</p>\n<ul>\n<li><a href=https://us02web.zoom.us/j/81283129615?pwd=TkI4b1V5clpxR3FwZEJaUE92eGF4Zz09>Ссылка для подключения &gt\;&gt\;</a></li>\n</ul>\n<p>ВНИМАНИЕ! Для участия в мероприятии необходимо указать при регистрации фамилию и имя участника\, анонимные гости допускаться не будут.</p>\n
URL:https://abpmp.org.ru/events/bpmaward-2020-1/
ATTACH:https://abpmp.org.ru/events/bpmaward-2020-1/
LOCATION:онлайн\, вебинар\, интернет
END:VEVENT
END:VCALENDAR
