BEGIN:VCALENDAR
VERSION:2.0
METHOD:PUBLISH
PRODID:-//hacksw/handcal//NONSGML v1.0//EN
BEGIN:VEVENT
DTSTAMP:20260421T095241Z
DTSTART;TZID='':20200408T183000
DTEND;TZID='':20200408T213000
UID:20200408T183000-20200408T213000-164@abpmp.org.ru
SUMMARY:Конкурс BPM-проект года 2019. Презентация проектов (день 4)
DESCRIPTION:Презентации финалистов конкурса\n\n 	Оптимизация процессов снабжения (Распадская угольная компания)\n 	Автоматизация бизнес-процесса «Инвестиционное планирование» (Зарубежнефть)\n 	Создание комплексной системы управления процессами компании. Внедрение процессного подхода (Ароса)\n\nРегламент:\n\n 	19:00 - 19:40 презентация 1\n 	19:50 - 20:30 презентация 2\n 	20:40 - 21:20 презентация 3\n 	21:20 - завершение мероприятия.\n\n&nbsp\;\n\nВНИМАНИЕ! Мероприятие проводится только в формате онлайн!
X-ALT-DESC;FMTTYPE=text/html:<p>Презентации финалистов конкурса</p>\n<ul>\n<li><a href=http://bpmaward.ru/2020/01/23/raspadskaya/>Оптимизация процессов снабжения</a> (Распадская угольная компания)</li>\n<li><a href=http://bpmaward.ru/2020/03/05/zarubezhneft/>Автоматизация бизнес-процесса «Инвестиционное планирование»</a> (Зарубежнефть)</li>\n<li><a href=http://bpmaward.ru/2020/02/12/arosa/>Создание комплексной системы управления процессами компании. Внедрение процессного подхода</a> (Ароса)</li>\n</ul>\n<p><strong>Регламент:</strong></p>\n<ul>\n<li>19:00 &#8212\; 19:40 презентация 1</li>\n<li>19:50 &#8212\; 20:30 презентация 2</li>\n<li>20:40 &#8212\; 21:20 презентация 3</li>\n<li>21:20 &#8212\; завершение мероприятия.</li>\n</ul>\n<p>&nbsp\;</p>\n<p>ВНИМАНИЕ! Мероприятие проводится только в формате онлайн!</p>\n
URL:https://abpmp.org.ru/events/bpmawadrd2019_day4/
ATTACH:https://abpmp.org.ru/events/bpmawadrd2019_day4/
LOCATION:онлайн\, вебинар\, интернет
END:VEVENT
END:VCALENDAR
