BEGIN:VCALENDAR
VERSION:2.0
METHOD:PUBLISH
PRODID:-//hacksw/handcal//NONSGML v1.0//EN
BEGIN:VEVENT
DTSTAMP:20260420T102903Z
DTSTART;TZID='':20190409T183000
DTEND;TZID='':20190409T220000
UID:20190409T183000-20190409T220000-125@abpmp.org.ru
SUMMARY:Конкурс BPM-проект года 2018. Презентация проектов (день 2)
DESCRIPTION:Презентация проектов\, представленных на конкурс.\n\n 	 НИУ ВШЭ\n 	ПАО Сибур Холдинг\n 	 Гарс Телеком\n\nРегламент:\n\n 	18:30 - 19:00 регистрация\n 	19:00 - 19:40 презентация 1\n 	19:50 - 20:30 презентация 2\n 	20:40 - 21:20 презентация 3\n 	21:20 - завершение мероприятия.\n\n&nbsp\;\n\nДля очного участия необходима регистрация
X-ALT-DESC;FMTTYPE=text/html:<p>Презентация проектов\, представленных на конкурс.</p>\n<ul>\n<li> НИУ ВШЭ</li>\n<li>ПАО &#171\;Сибур Холдинг&#187\;</li>\n<li> &#171\;Гарс Телеком&#187\;</li>\n</ul>\n<p><strong>Регламент:</strong></p>\n<ul>\n<li>18:30 &#8212\; 19:00 регистрация</li>\n<li>19:00 &#8212\; 19:40 презентация 1</li>\n<li>19:50 &#8212\; 20:30 презентация 2</li>\n<li>20:40 &#8212\; 21:20 презентация 3</li>\n<li>21:20 &#8212\; завершение мероприятия.</li>\n</ul>\n<p>&nbsp\;</p>\n<p>Для очного участия необходима регистрация</p>\n
URL:https://abpmp.org.ru/events/bpmaward2018-2/
ATTACH:https://abpmp.org.ru/events/bpmaward2018-2/
LOCATION:Аналитический центр при Правительстве Российской Федерации\, проспект Академика Сахарова\, 12\, Москва
END:VEVENT
END:VCALENDAR
